BEGIN:VCALENDAR
VERSION:2.0
PRODID:-//Savannah Ghost Pirates//ghostpirateshockey.com//EN
CALSCALE:GREGORIAN
BEGIN:VEVENT
UID:https://ghostpirateshockey.com/games/2026/04/25/florida-everblades
DTSTAMP:20260420T135706Z
SUMMARY:Savannah Ghost Pirates @ Florida Everblades
DTSTART;TZID=Canada/Eastern:20260425T190000
DTEND;TZID=Canada/Eastern:20260425T220000
DESCRIPTION:Savannah Ghost Pirates at Florida Everblades
LOCATION:Hertz Arena\, Estero\, Florida
URL;VALUE=URI:https://ghostpirateshockey.com/games/2026/04/25/florida-everb
 lades
END:VEVENT
END:VCALENDAR
