BEGIN:VCALENDAR
VERSION:2.0
PRODID:-//Savannah Ghost Pirates//ghostpirateshockey.com//EN
CALSCALE:GREGORIAN
BEGIN:VEVENT
UID:https://ghostpirateshockey.com/games/2026/04/29/florida-everblades
DTSTAMP:20260420T052858Z
SUMMARY:Florida Everblades @ Savannah Ghost Pirates
DTSTART;TZID=Canada/Eastern:20260429T190000
DTEND;TZID=Canada/Eastern:20260429T220000
DESCRIPTION:Florida Everblades at Savannah Ghost Pirates
LOCATION:Enmarket Arena\, Savannah\, Georgia
URL;VALUE=URI:https://ghostpirateshockey.com/games/2026/04/29/florida-everb
 lades
END:VEVENT
END:VCALENDAR
