BEGIN:VCALENDAR
VERSION:2.0
PRODID:-//Savannah Ghost Pirates//ghostpirateshockey.com//EN
CALSCALE:GREGORIAN
BEGIN:VEVENT
UID:https://ghostpirateshockey.com/games/2026/05/04/florida-everblades
DTSTAMP:20260420T140013Z
SUMMARY:Savannah Ghost Pirates @ Florida Everblades
DTSTART;TZID=Canada/Eastern:20260504T193000
DTEND;TZID=Canada/Eastern:20260504T223000
DESCRIPTION:Savannah Ghost Pirates at Florida Everblades
LOCATION:Hertz Arena\, Estero\, Florida
URL;VALUE=URI:https://ghostpirateshockey.com/games/2026/05/04/florida-everb
 lades
END:VEVENT
END:VCALENDAR
